BEGIN:VCALENDAR
VERSION:2.0
PRODID:-//COEDPI - ECPv6.15.20//NONSGML v1.0//EN
CALSCALE:GREGORIAN
METHOD:PUBLISH
X-WR-CALNAME:COEDPI
X-ORIGINAL-URL:https://coedpi.es
X-WR-CALDESC:Eventos para COEDPI
REFRESH-INTERVAL;VALUE=DURATION:PT1H
X-Robots-Tag:noindex
X-PUBLISHED-TTL:PT1H
BEGIN:VTIMEZONE
TZID:Europe/Madrid
BEGIN:DAYLIGHT
TZOFFSETFROM:+0100
TZOFFSETTO:+0200
TZNAME:CEST
DTSTART:20240331T010000
END:DAYLIGHT
BEGIN:STANDARD
TZOFFSETFROM:+0200
TZOFFSETTO:+0100
TZNAME:CET
DTSTART:20241027T010000
END:STANDARD
BEGIN:DAYLIGHT
TZOFFSETFROM:+0100
TZOFFSETTO:+0200
TZNAME:CEST
DTSTART:20250330T010000
END:DAYLIGHT
BEGIN:STANDARD
TZOFFSETFROM:+0200
TZOFFSETTO:+0100
TZNAME:CET
DTSTART:20251026T010000
END:STANDARD
BEGIN:DAYLIGHT
TZOFFSETFROM:+0100
TZOFFSETTO:+0200
TZNAME:CEST
DTSTART:20260329T010000
END:DAYLIGHT
BEGIN:STANDARD
TZOFFSETFROM:+0200
TZOFFSETTO:+0100
TZNAME:CET
DTSTART:20261025T010000
END:STANDARD
END:VTIMEZONE
BEGIN:VEVENT
DTSTART;VALUE=DATE:20251129
DTEND;VALUE=DATE:20251130
DTSTAMP:20260419T153942
CREATED:20250924T071924Z
LAST-MODIFIED:20250925T103432Z
UID:27458-1764374400-1764460799@coedpi.es
SUMMARY:Curso Niten Ichi Ryu Kenjutsu
DESCRIPTION:
URL:https://coedpi.es/evento/curso-niten-ichi-ryu-kenjutsu/
LOCATION:Poliesportiu Municipal Sergi Manzano\, Av. Mare de Déu de Bellvitge\, 7\, L'Hospitalet de Llobregat\, BARCELONA\, 08907\, Spain
CATEGORIES:Curso
ATTACH;FMTTYPE=image/jpeg:https://coedpi.es/wp-content/uploads/2025/09/Curso-Niten-Ichi-Ryu-Kenjutsu-1.jpeg
ORGANIZER;CN="Musashi Dojo Barcelona":MAILTO:enriquefmar0@gmail.com
END:VEVENT
END:VCALENDAR