BEGIN:VCALENDAR
VERSION:2.0
PRODID:-//COEDPI - ECPv6.15.20//NONSGML v1.0//EN
CALSCALE:GREGORIAN
METHOD:PUBLISH
X-WR-CALNAME:COEDPI
X-ORIGINAL-URL:https://coedpi.es
X-WR-CALDESC:Eventos para COEDPI
REFRESH-INTERVAL;VALUE=DURATION:PT1H
X-Robots-Tag:noindex
X-PUBLISHED-TTL:PT1H
BEGIN:VTIMEZONE
TZID:Europe/Madrid
BEGIN:DAYLIGHT
TZOFFSETFROM:+0100
TZOFFSETTO:+0200
TZNAME:CEST
DTSTART:20240331T010000
END:DAYLIGHT
BEGIN:STANDARD
TZOFFSETFROM:+0200
TZOFFSETTO:+0100
TZNAME:CET
DTSTART:20241027T010000
END:STANDARD
BEGIN:DAYLIGHT
TZOFFSETFROM:+0100
TZOFFSETTO:+0200
TZNAME:CEST
DTSTART:20250330T010000
END:DAYLIGHT
BEGIN:STANDARD
TZOFFSETFROM:+0200
TZOFFSETTO:+0100
TZNAME:CET
DTSTART:20251026T010000
END:STANDARD
BEGIN:DAYLIGHT
TZOFFSETFROM:+0100
TZOFFSETTO:+0200
TZNAME:CEST
DTSTART:20260329T010000
END:DAYLIGHT
BEGIN:STANDARD
TZOFFSETFROM:+0200
TZOFFSETTO:+0100
TZNAME:CET
DTSTART:20261025T010000
END:STANDARD
END:VTIMEZONE
BEGIN:VEVENT
DTSTART;TZID=Europe/Madrid:20251116T080000
DTEND;TZID=Europe/Madrid:20251116T170000
DTSTAMP:20260419T172010
CREATED:20251116T091237Z
LAST-MODIFIED:20251116T091237Z
UID:27820-1763280000-1763312400@coedpi.es
SUMMARY:Taller GRATUÏT de Defensa Personal Femenina
DESCRIPTION:
URL:https://coedpi.es/evento/taller-gratuit-de-defensa-personal-femenina-2/
LOCATION:BIBLIOTECA ABADESA EMMA\, Carr. de Camprodón\, 9\,\, Sant Joan de les Abadesses\, Girona\, 17860
CATEGORIES:Taller
ATTACH;FMTTYPE=image/png:https://coedpi.es/wp-content/uploads/2025/11/Taller-GRATUIT-de-Defensa-Personal-Femenina1.png
ORGANIZER;CN="Consorci Benestar Social Ripoll%C3%A8s":MAILTO:tallersdpf@gmail.com
END:VEVENT
END:VCALENDAR